BEGIN:VCALENDAR
VERSION:2.0
PRODID:-//eventon.com NONSGML v1.0//EN
CALSCALE:GREGORIAN
METHOD:PUBLISH
BEGIN:VEVENT
UID:69e5e06e8f4f2
DTSTAMP:20260420T081438Z
DTSTART:20210105
DTEND:20210106
LOCATION:
SUMMARY:FREE* SCHOOL HOLIDAY PROGRAM â€“ JANUARY
DESCRIPTION:Educational\,  creative and fun! â€“ Play in a band\,  write a 
 song together\,  perform and record it! When January 5\,  6\,  7 10:00 am â
 €“ 11:30 â€“ each day 3-day program Where Coonan St Studio\,  INDOOROOPILLY
  How To Book Places are limited and bookings are essential. Contact us to b
 ook[..]\nhttps://sonomusic.com.au/events/free-school-holiday-program-januar
 y/
URL:https://sonomusic.com.au/events/free-school-holiday-program-january/
END:VEVENT
END:VCALENDAR