BEGIN:VCALENDAR
VERSION:2.0
PRODID:-//eventon.com NONSGML v1.0//EN
CALSCALE:GREGORIAN
METHOD:PUBLISH
BEGIN:VEVENT
UID:69e5dd742f5f9
DTSTAMP:20260420T080156Z
DTSTART:20220528T053000Z
DTEND:20220528T070000Z
LOCATION:
SUMMARY:Play What You Hear - Melody
DESCRIPTION:Hosted by Darren Ever wondered how the experts seem to effortle
 ssly work out how to play a song just by a quick listen? Some people might 
 think this is a magical talent that only appears after years of experience 
 playing an instrument\,  but\,  it’s actually easier than you may think[.
 .]\nhttps://sonomusic.com.au/events/play-what-you-hear-melody-3/
URL:https://sonomusic.com.au/events/play-what-you-hear-melody-3/
END:VEVENT
END:VCALENDAR