BEGIN:VCALENDAR
VERSION:2.0
PRODID:-//eventon.com NONSGML v1.0//EN
CALSCALE:GREGORIAN
METHOD:PUBLISH
BEGIN:VEVENT
UID:69e5dfc8a6052
DTSTAMP:20260420T081152Z
DTSTART:20221119T053000Z
DTEND:20221119T070000Z
LOCATION:
SUMMARY:Singing on Stage
DESCRIPTION:Hosted by Olivia This workshop will cover the essentials of sin
 ging on stage for performers of live music and musical actors. Participants
  will break down a song into elements of story and genre\,  analyse emotion
 s and apply the appropriate vocal techniques. With a focus on confidence\, 
  you will learn to[..]\nhttps://sonomusic.com.au/events/singing-on-stage/
URL:https://sonomusic.com.au/events/singing-on-stage/
END:VEVENT
END:VCALENDAR