BEGIN:VCALENDAR
VERSION:2.0
PRODID:-//eventon.com NONSGML v1.0//EN
CALSCALE:GREGORIAN
METHOD:PUBLISH
BEGIN:VEVENT
UID:69e5deb7ea034
DTSTAMP:20260420T080719Z
DTSTART:20250906T233000Z
DTEND:20250907T070000Z
LOCATION:Voices Of Birralee 57 Carwoola St
SUMMARY:Spring 2025 Piano Recital
DESCRIPTION:Spring Piano Recital Voices Of Birralee HQ\,  57 Carwoola St\, 
  Bardon  QLD 4065 This event is only open to current piano students at Son
 o Music. To perform at the recital you must register. Registration closes S
 unday 30th March. More information HERE\nhttps://sonomusic.com.au/events/sp
 ring-2025-piano-recital/
URL:https://sonomusic.com.au/events/spring-2025-piano-recital/
END:VEVENT
END:VCALENDAR