BEGIN:VCALENDAR
VERSION:2.0
PRODID:-//eventon.com NONSGML v1.0//EN
CALSCALE:GREGORIAN
METHOD:PUBLISH
BEGIN:VEVENT
UID:69e5d9aff17ca
DTSTAMP:20260420T074551Z
DTSTART:20260328T233000Z
DTEND:20260329T070000Z
LOCATION:Voices Of Birralee 57 Carwoola St
SUMMARY:Autumn 2026 Piano Recital
DESCRIPTION:Autumn Piano Recital Voices Of Birralee HQ\,  57 Carwoola St\, 
  Bardon QLD 4065 This event is only open to current piano students at Sono 
 Music. To perform at the recital you must register. Registration closes Sun
 day 8th March. More information HERE\nhttps://sonomusic.com.au/events/autum
 n-2026-piano-recital/
URL:https://sonomusic.com.au/events/autumn-2026-piano-recital/
END:VEVENT
END:VCALENDAR